BEGIN:VCALENDAR
VERSION:2.0
PRODID:-//eventon.com NONSGML v1.0//EN
CALSCALE:GREGORIAN
METHOD:PUBLISH
BEGIN:VEVENT
UID:69e73cc8670e4
DTSTAMP:20260421T090056Z
DTSTART:20231214T163000Z
DTEND:20231214T173000Z
LOCATION:
SUMMARY:Basis 2
DESCRIPTION:JunghundegruppeHunde bis 1 Jahr\nhttps://hundeverein-bergedorf.
 de/events/basis-2/
URL:https://hundeverein-bergedorf.de/events/basis-2/
END:VEVENT
END:VCALENDAR