BEGIN:VCALENDAR
VERSION:2.0
PRODID:-//eventon.com NONSGML v1.0//EN
CALSCALE:GREGORIAN
METHOD:PUBLISH
BEGIN:VEVENT
UID:69e73f09b24d8
DTSTAMP:20260421T091033Z
DTSTART:20231221T153000Z
DTEND:20231221T163000Z
LOCATION:
SUMMARY:Basis 1
DESCRIPTION:Welpengruppe Hunde bis 16 Wochen\nhttps://hundeverein-bergedor
 f.de/events/basis-1/var/ri-1.l-L1
URL:https://hundeverein-bergedorf.de/events/basis-1/var/ri-1.l-L1
END:VEVENT
END:VCALENDAR